BEGIN:VCALENDAR
VERSION:2.0
PRODID:-//Moonflower Community Cooperative - ECPv6.15.20//NONSGML v1.0//EN
CALSCALE:GREGORIAN
METHOD:PUBLISH
X-WR-CALNAME:Moonflower Community Cooperative
X-ORIGINAL-URL:https://moonflower.coop
X-WR-CALDESC:Events for Moonflower Community Cooperative
REFRESH-INTERVAL;VALUE=DURATION:PT1H
X-Robots-Tag:noindex
X-PUBLISHED-TTL:PT1H
BEGIN:VTIMEZONE
TZID:America/Denver
BEGIN:DAYLIGHT
TZOFFSETFROM:-0700
TZOFFSETTO:-0600
TZNAME:MDT
DTSTART:20250309T090000
END:DAYLIGHT
BEGIN:STANDARD
TZOFFSETFROM:-0600
TZOFFSETTO:-0700
TZNAME:MST
DTSTART:20251102T080000
END:STANDARD
BEGIN:DAYLIGHT
TZOFFSETFROM:-0700
TZOFFSETTO:-0600
TZNAME:MDT
DTSTART:20260308T090000
END:DAYLIGHT
BEGIN:STANDARD
TZOFFSETFROM:-0600
TZOFFSETTO:-0700
TZNAME:MST
DTSTART:20261101T080000
END:STANDARD
BEGIN:DAYLIGHT
TZOFFSETFROM:-0700
TZOFFSETTO:-0600
TZNAME:MDT
DTSTART:20270314T090000
END:DAYLIGHT
BEGIN:STANDARD
TZOFFSETFROM:-0600
TZOFFSETTO:-0700
TZNAME:MST
DTSTART:20271107T080000
END:STANDARD
END:VTIMEZONE
BEGIN:VEVENT
DTSTART;TZID=America/Denver:20260422T180000
DTEND;TZID=America/Denver:20260422T200000
DTSTAMP:20260422T060547
CREATED:20260409T180900Z
LAST-MODIFIED:20260409T201451Z
UID:25742-1776880800-1776888000@moonflower.coop
SUMMARY:Artist Reception with Guest Artist CC
DESCRIPTION:Join us for a special artist reception with our featured local artist for the month of May\, Coyote Corvidae (CC)! \nNearly all of CC’s work is influenced by the backcountry where he spends much of his time\, generally the Colorado Plateau. Across the last few decades he has rambled throughout the southwest in the Chihuahua\, Sonoran\, and Mojave deserts\, both in the US and Mexico. He has sketched and painted sporadically throughout his life\, but in the last three years CC has worked with an intensive focus on the deserts and mountains of this region. \nIn other artistic ventures\, CC worked in the NEA-awarded theatre group Los Angeles Poverty Department for ten years\, where he acted\, directed\, and produced plays presented across the US and festivals in Europe. He also produced a radio play which was well received in Moab’s own KZMU radio festival. \nStop by our Datura Deli community space and see what you think of CC’s work. Light refreshments will be provided. Mckennaugh Kelly\, a full time resident of the highway\, will be playing original music inspired by asphalt and sand. A raft guide by day and night\, she thus travels the rivers as well\, the original roads of the land.
URL:https://moonflower.coop/event/artist-reception-with-guest-artist-cc/
LOCATION:Moonflower Community Cooperative\, 39 E 100 N\, Moab\, UT\, 84532\, United States
CATEGORIES:Moonflower Events
ATTACH;FMTTYPE=image/png:https://moonflower.coop/wp-content/uploads/2026/04/Artist-Reception-CC.png
END:VEVENT
END:VCALENDAR